BEGIN:VCALENDAR
VERSION:2.0
PRODID:-//Squarespace Inc/Squarespace 6//v6//EN
BEGIN:VEVENT
UID:5c5919eef4e1fc454221e90e@squarespace.com
DTSTAMP:20190205T052317Z
DTSTART:20190209T140000Z
DTEND:20190215T190000Z
SUMMARY:Bring A Friend To Dancing Week
GEO:-27.48909;153.05407
LOCATION:Brisbane Dance Theatre\, Unit 3/56 Cambridge Street\, Coorparoo\, 
 QLD 4151\, Australia
END:VEVENT
END:VCALENDAR
