BEGIN:VCALENDAR
VERSION:2.0
PRODID:-//Squarespace Inc/Squarespace 6//v6//EN
BEGIN:VEVENT
UID:5bb1b91f104c7bcce61888b7@squarespace.com
DTSTAMP:20181122T062749Z
DTSTART:20181201T000000Z
DTEND:20181201T233000Z
SUMMARY:Brisbane Dance Theatre's Christmas' Greatest Show
GEO:-27.461368;153.033167
LOCATION:Claver Theatre\, All Hallows' School\, 547 Ann Street\, Brisbane\, 
 QLD\, 4000\, Australia
END:VEVENT
END:VCALENDAR
