BEGIN:VCALENDAR
VERSION:2.0
PRODID:-//Squarespace Inc/Squarespace 6//v6//EN
BEGIN:VEVENT
UID:5c591b79f4e1fc454221f6aa@squarespace.com
DTSTAMP:20190205T052328Z
DTSTART:20190216T140000Z
DTEND:20190222T230000Z
SUMMARY:Dress Up Week
GEO:37.867125;-122.260347
LOCATION:Brisbane Dance Theatre\, Unit 3/56 Cambridge Street\, Coorparoo\, 
 QLD 4151\, Australia
END:VEVENT
END:VCALENDAR
