BEGIN:VCALENDAR
VERSION:2.0
PRODID:-//Squarespace Inc/Squarespace 6//v6//EN
BEGIN:VEVENT
UID:5c591c8bc830252ca2c075e4@squarespace.com
DTSTAMP:20190205T052346Z
DTSTART:20190330T130000Z
DTEND:20190405T220000Z
SUMMARY:Watching Week
GEO:40.720756;-74.000761
LOCATION:Brisbane Dance Theatre\, Unit 3/56 Cambridge Street\, Coorparoo\, 
 QLD 4151\, Australia
END:VEVENT
END:VCALENDAR
